BEGIN:VCALENDAR
VERSION:2.0
PRODID:-//パルシステム新潟ときめき - ECPv4.8.1//NONSGML v1.0//EN
CALSCALE:GREGORIAN
METHOD:PUBLISH
X-WR-CALNAME:パルシステム新潟ときめき
X-ORIGINAL-URL:https://www.niigata-tokimeki.jp
X-WR-CALDESC:Events for パルシステム新潟ときめき
BEGIN:VEVENT
DTSTART;TZID=Asia/Tokyo:20251126T101500
DTEND;TZID=Asia/Tokyo:20251126T114500
DTSTAMP:20260423T171130
CREATED:20251023T000011Z
LAST-MODIFIED:20251114T031216Z
UID:6642-1764152100-1764157500@www.niigata-tokimeki.jp
SUMMARY:三条市開催　軽くて便利なハリオ調理がしやすい耐熱ガラス製容器で簡単調理＆試食会　☆受付終了
DESCRIPTION:好評につき三条でも開催\nパルシステム新潟ときめきの組合員が初めて開発に協力した\nハリオ調理がしやすい耐熱ガラス製容器\nを使った簡単レシピを一緒に調理。\nみんなで作って、みんなで試食しましょう！\nお申込みをお待ちしています♪\n \n  \n  \n  \n  \n  \n開催日時：11月26日（水）\n開催時間：10：15～11：45\n会場：三条市体育文化会館　2階　マルチルームABCD\n＊所在地/三条市荒町２丁目1-3\n参加対象と参加費＊当日徴収します　小学生以下無料\nパルシステム新潟ときめき組合員（中学生以上の同居のご家族）　１人200円（税込）\nパルシステム新潟ときめきの組合員ではない方（中学生以上）　１人300円（税込）\n持ち物等\nエプロン、三角巾、マイはし、マイスプーン、水分補給の飲み物、筆記用具\n定員：15人\n行事保険：有り\n締切り：11月8日（土）14：00 \n\n＊申込みが定員を超えた場合は抽選となります。\n＊当落通知は、お申し込みいただいたメールアドレスに11月12日（水）にご連絡します。\n＊お申込み後、自動返信メールが届かない場合や、当落通知のメールがなかった場合は\nパルシステム問合せセンターに（11/26開催のイベントについて）とお問い合わせをお願いします。折り返しご連絡いたします。\n0120-868-014（月～金曜日/9：00～20：00　　土曜日/9：00～17：00）\n＊「おためし宅配」利用中の方は、組合員登録前ですので組合員ではない方の参加費となります。\n＊お預かりした個人情報は組合員活動の目的以外には使用しません。 \nお申込みはこちら \n  \n
URL:https://www.niigata-tokimeki.jp/events2/20251023/6642
LOCATION:三条市体育文化会館\, 三条市荒町2丁目1-3
ORGANIZER;CN="%E3%83%91%E3%83%AB%E3%82%B7%E3%82%B9%E3%83%86%E3%83%A0%E6%96%B0%E6%BD%9F%E3%81%A8%E3%81%8D%E3%82%81%E3%81%8D":MAILTO:kumikatsu-niigata@pal.or.jp
END:VEVENT
END:VCALENDAR