BEGIN:VCALENDAR
VERSION:2.0
PRODID:-//パルシステム新潟ときめき - ECPv4.8.1//NONSGML v1.0//EN
CALSCALE:GREGORIAN
METHOD:PUBLISH
X-WR-CALNAME:パルシステム新潟ときめき
X-ORIGINAL-URL:https://www.niigata-tokimeki.jp
X-WR-CALDESC:Events for パルシステム新潟ときめき
BEGIN:VEVENT
DTSTART;TZID=Asia/Tokyo:20251116T100000
DTEND;TZID=Asia/Tokyo:20251116T144500
DTSTAMP:20260423T173820
CREATED:20251001T000049Z
LAST-MODIFIED:20251030T033650Z
UID:6589-1763287200-1763304300@www.niigata-tokimeki.jp
SUMMARY:【組合員限定】パルシステム新潟ときめき商品展示会　☆　受付終了
DESCRIPTION:  \n  \n  \nお申し込みはこちらから \n申込み締切り：10月25日（土）14：00\n＊申込み者全員に当落通知を11/3（月）～11/7（金）に配送でお届けします。\n当落通知のお届けがなかった場合、下記に「商品展示会について新潟センターから連絡が欲しい」と連絡をお願いします。折り返しご連絡いたします。\n＊行事保険有り\n＊「お試し宅配」利用中の方もお申込みいただけます。\n＊お預かりした個人情報は商品展示会の参加連絡のみに使用します。 \nパルシステム問合せセンター　0120-868-014\n（月～金曜日／9：00～20：00　土曜日／9：00～17：00） \n
URL:https://www.niigata-tokimeki.jp/events2/20251001/6589
LOCATION:新潟市産業振興センター\, 新潟市中央区鐘木185-10
ATTACH;FMTTYPE=image/png:https://www.niigata-tokimeki.jp/wp-content/uploads/2025/10/syouhinn-タイトルなし.png
END:VEVENT
END:VCALENDAR