BEGIN:VCALENDAR
VERSION:2.0
PRODID:-//パルシステム新潟ときめき - ECPv4.8.1//NONSGML v1.0//EN
CALSCALE:GREGORIAN
METHOD:PUBLISH
X-WR-CALNAME:パルシステム新潟ときめき
X-ORIGINAL-URL:https://www.niigata-tokimeki.jp
X-WR-CALDESC:Events for パルシステム新潟ときめき
BEGIN:VEVENT
DTSTART;TZID=Asia/Tokyo:20250806T135000
DTEND;TZID=Asia/Tokyo:20250806T160000
DTSTAMP:20260423T220453
CREATED:20250712T025802Z
LAST-MODIFIED:20250708T012227Z
UID:6484-1754488200-1754496000@www.niigata-tokimeki.jp
SUMMARY:参加募集　2025ピースアクションin NIIGATA　第36回平和集会
DESCRIPTION:今年は被爆・終戦から80年という大切な節目の年を迎えます。\nこの意義深い年に、「第36回平和集会」を新潟県生活協同組合連合会の主催で開催します。\n平和は遠い世界の話ではなく、私たちの日常の中にあるもの。\n小さな気づきや思いやりが、大きな平和への一歩になります。\nお子さまからご年配の方まで、世代を超えて平和の大切さを分かち合いましょう！\nお申込みをお待ちしています。 \n平和集会開催内容 \n \n  \n  \n  \n  \n  \n  \n  \n  \n  \n開催日時：8月6日（水）　13：50～16：00　受付13：30～\n開催場所：新潟市東区プラザ　2階ホール所在地/新潟市東区下木戸1ｰ4-1\n参加対象：パルシステム新潟ときめきの組合員（同居ご家族含む）\n参加費：無料\n定員：20人　お申込みが定員を超えた場合は抽選となります。\n行事保険：有り \n締切り：7月26日（土）14：00\n当落通知\n当落通知は、お申し込みいただいたメールアドレスに7月30日（水）にご連絡します。\n＊お申込み後の自動返信メールが届かない、当落通知のメールが届かなかった場合はパルシステム問合せセンターにご連絡をお願いします。\n0120-868-014（月～金曜日/9：00～20：00　　土曜日/9：00～17：00）\n＊「おためし宅配」利用中の方は、組合員登録後にお申し込みいただけます。\n＊お預かりした個人情報は組合員活動の目的以外には使用しません。 \nお申込みはこちらから \n
URL:https://www.niigata-tokimeki.jp/events2/20250712/6484
LOCATION:東区プラザ\, 新潟市東区下木戸1-4-1
END:VEVENT
END:VCALENDAR