BEGIN:VCALENDAR
VERSION:2.0
PRODID:-//パルシステム新潟ときめき - ECPv4.8.1//NONSGML v1.0//EN
CALSCALE:GREGORIAN
METHOD:PUBLISH
X-WR-CALNAME:パルシステム新潟ときめき
X-ORIGINAL-URL:https://www.niigata-tokimeki.jp
X-WR-CALDESC:Events for パルシステム新潟ときめき
BEGIN:VEVENT
DTSTART;TZID=Asia/Tokyo:20250801T100000
DTEND;TZID=Asia/Tokyo:20250801T114500
DTSTAMP:20260423T220604
CREATED:20250630T000001Z
LAST-MODIFIED:20250724T035358Z
UID:6440-1754042400-1754048700@www.niigata-tokimeki.jp
SUMMARY:夏休み科学実験教室　★受付終了
DESCRIPTION:パルシステムでは商品の安全性や確かな品質を支えるために、独自の品質基準を設けその基準の検査を行う\n「商品検査センター」があります。\nその商品検査センターの職員が講師になり「ペーパークロマトグラフィー」と「サイダー作り」の\n実験教室を開催します。\nお子さんの夏休みの自由課題に！白衣を着てレッツチャレンジ！\nお申込みをお待ちしています。 \n開催日時：8月1日（金）10：00～11：45\n会場：江南区文化会館　美術工作室\n所在地：新潟市江南区茅野山3丁目1-14\n実験内容：ペーパークロマトグラフィーとサイダー作り\n参加対象：小学生と保護者\n＊保護者はパルシステム新潟ときめきの組合員（同居のご家族含む）\n＊小学生のみの参加はご遠慮ください\n参加費：小学生1人　100円（税込）\n持ち物：筆記用具（鉛筆、消しゴムなど）、はさみ、水分補給の飲み物\n定　員：15組　定員を超えた場合は抽選となります\n行事保険：あり \n締切り：7月12日（土）14：00\n当落通知:\n当落通知は、お申し込みいただいたメールアドレスに7月16日（水）にご連絡します。\n＊お申込み後の自動返信メールが届かない、当落通知のメールが届かなかった場合はパルシステム問合せセンターにご連絡をお願いします。\n0120-868-014（月～金曜日/9:00～20:00　土曜日/9:00～17:00）\n＊「おためし宅配」利用中の方は、組合員登録後にお申し込みいただけます。\n＊お預かりした個人情報は組合員活動の目的以外には使用しません。 \nお申込みはこちらから \n  \n
URL:https://www.niigata-tokimeki.jp/events2/20250630/6440
LOCATION:江南区文化会館　美術工作室\, 新潟市江南区茅野山3-1-14
ATTACH;FMTTYPE=image/png:https://www.niigata-tokimeki.jp/wp-content/uploads/2025/06/-2025-06-25-125250-e1750823648537.png
END:VEVENT
END:VCALENDAR