BEGIN:VCALENDAR
VERSION:2.0
PRODID:-//パルシステム新潟ときめき - ECPv4.8.1//NONSGML v1.0//EN
CALSCALE:GREGORIAN
METHOD:PUBLISH
X-WR-CALNAME:パルシステム新潟ときめき
X-ORIGINAL-URL:https://www.niigata-tokimeki.jp
X-WR-CALDESC:Events for パルシステム新潟ときめき
BEGIN:VEVENT
DTSTART;TZID=Asia/Tokyo:20250531T100000
DTEND;TZID=Asia/Tokyo:20250531T114500
DTSTAMP:20260424T015712
CREATED:20250419T080051Z
LAST-MODIFIED:20250509T022031Z
UID:6269-1748685600-1748691900@www.niigata-tokimeki.jp
SUMMARY:参加募集　ときめき学校2025～田んぼ～　お米の産地に行って生産者に会って米作り体験　☆受付終了
DESCRIPTION:もちもち、つやつや、おいしいごはん。ごはんはお米を炊いたもの。\nときめき学校～田んぼ～では、お米がどこで、誰が、どんな風に、そしてどんな気持ちで作っているのかを米作りをしながら体験します。\n体験・交流先はときめき産直米の産地「新潟有機米生産組合」。「田植え」「生育・生きもの観察」「稲刈り・新米試食交流会」の全3回行います。\n1回目は田植えです。素足で田んぼに入り、昔ながらの‟手植え”をします。お申込みをお待ちしています。 \n開催場所　新潟有機米生産組合の田んぼ\n集合場所　木津地域研修センタ―　　現地集合・解散\n所在地　　新潟市江南区木津2-3-28\n1回目 田植え　5月31日（土）10時～11時45分　雨天決行（受付9時45分から）\n服装・持ち物　飲み物、タオル、足洗い用のバケツとブラシ、着替え、ビーチサンダルなど\n田んぼに入りますので汚れてもよい服装でお願いします。\n素足で田んぼに入ります。気になる方は田植え用の長靴をご用意ください。\n（通常の長靴は田んぼの中で脱げます）\n2回目　　7月12日（土）10時～11時45分　生育・生きもの観察\n3回目　　9月27日（土）10時～12時30分　稲刈り・新米試食交流会\n定員　18組\n参加対象　パルシステム新潟ときめきの組合員と同居ご家族\n参加費　1組　2\,000円（税込）\n参加費には（5/31，7/12，9/27）3回分の参加費と3回目に収穫する「ときめき産直米コシヒカリ」新米1.5㎏の代金も含まれます。\n行事保険　有り\n締切り：5/3（土）14：00\n当落通知\n当落通知は、お申し込みいただいたメールアドレスに5月7日（水）にご連絡します。 \nお申し込みはこちら \n＊申込み後の自動返信メールが届かない、当落通知のメールが届かなかった場合はパルシステム問合せセンターにご連絡をお願いします。\n＊「おためし宅配」利用中の方は、組合員登録後にお申し込みいただけます。\n＊お預かりした個人情報は組合員活動の目的以外には使用しません。 \n  \n  \n  \n
URL:https://www.niigata-tokimeki.jp/events2/20250419/6269
LOCATION:木津地域研修センター\, 新潟市江南区木津2-3-28
ATTACH;FMTTYPE=image/jpeg:https://www.niigata-tokimeki.jp/wp-content/uploads/2025/04/-2-e1744932967216.jpg
END:VEVENT
END:VCALENDAR