BEGIN:VCALENDAR
VERSION:2.0
PRODID:-//パルシステム新潟ときめき - ECPv4.8.1//NONSGML v1.0//EN
CALSCALE:GREGORIAN
METHOD:PUBLISH
X-WR-CALNAME:パルシステム新潟ときめき
X-ORIGINAL-URL:https://www.niigata-tokimeki.jp
X-WR-CALDESC:Events for パルシステム新潟ときめき
BEGIN:VEVENT
DTSTART;TZID=Asia/Tokyo:20251216T100000
DTEND;TZID=Asia/Tokyo:20251216T113000
DTSTAMP:20260423T160005
CREATED:20251112T000017Z
LAST-MODIFIED:20251217T010414Z
UID:6667-1765879200-1765884600@www.niigata-tokimeki.jp
SUMMARY:肌触り実感！トイレットペーパーお試し＆コーヒータイム ☆受付終了
DESCRIPTION:毎日使うトイレットペーパーだからこそ、品質にこだわりたい。\nパルシステムのトイレットペーパーを、実際に見て触って\n肌触りや厚さを体感していただけるイベントを開催します！\n牛乳パックからトイレットペーパーができる工程も紹介します。\nゆったりとした時間を一緒に過ごしながら、\n生活に欠かせないトイレットペーパーについて一緒に考えてみませんか？\nお申込みをお待ちしています。 \n \n  \n  \n  \n  \n開催日時：12月16日（火）\n開催時間：10：00～11：30\n会場：黒埼市民会館　2階 和室2\n＊所在地新潟市西区鳥原909-1\n参加対象と参加費＊3歳以下無料　当日徴収します\nパルシステム新潟ときめき組合員（同居のご家族含む）　１人100円（税込）\nパルシステム新潟ときめきの組合員ではない方　１人150円（税込）\n持ち物等\nマイカップ、エコバッグ、筆記用具\n定員：２０人\n行事保険：有り\n締切り：11月29日（土）14：00 \n＊申込みが定員を超えた場合は抽選となります。\n＊当落通知は、お申し込みいただいたメールアドレスに12月3日（水）にご連絡します。\n＊お申込み後、自動返信メールが届かない場合や、当落通知のメールがなかった場合は\nパルシステム問合せセンターに（12/16開催のイベントについて）とお問い合わせをお願いします。折り返しご連絡いたします。\n0120-868-014（月～金曜日/9：00～20：00　　土曜日/9：00～17：00）\n＊「おためし宅配」利用中の方は、組合員登録前ですので組合員ではない方の参加費となります。\n＊お預かりした個人情報は組合員活動の目的以外には使用しません。 \nお申込みはこちらから \n  \n
URL:https://www.niigata-tokimeki.jp/events2/20251112/6667
LOCATION:黒埼市民会館\, 新潟市西区鳥原909-1\, Japan
ATTACH;FMTTYPE=image/png:https://www.niigata-tokimeki.jp/wp-content/uploads/2025/11/スクリーンショット-2025-10-31-120218-1.png
ORGANIZER;CN="%E3%83%91%E3%83%AB%E3%82%B7%E3%82%B9%E3%83%86%E3%83%A0%E6%96%B0%E6%BD%9F%E3%81%A8%E3%81%8D%E3%82%81%E3%81%8D":MAILTO:kumikatsu-niigata@pal.or.jp
END:VEVENT
END:VCALENDAR