BEGIN:VCALENDAR
VERSION:2.0
PRODID:-//パルシステム新潟ときめき - ECPv4.8.1//NONSGML v1.0//EN
CALSCALE:GREGORIAN
METHOD:PUBLISH
X-WR-CALNAME:パルシステム新潟ときめき
X-ORIGINAL-URL:https://www.niigata-tokimeki.jp
X-WR-CALDESC:Events for パルシステム新潟ときめき
BEGIN:VEVENT
DTSTART;TZID=Asia/Tokyo:20251025T100000
DTEND;TZID=Asia/Tokyo:20251025T113000
DTSTAMP:20260423T190007
CREATED:20250924T000056Z
LAST-MODIFIED:20251030T033627Z
UID:6574-1761386400-1761391800@www.niigata-tokimeki.jp
SUMMARY:パルシステムでんきってなぁに　☆受付終了
DESCRIPTION:下越エリア会主催\n株式会社パルシステム電力を講師にお招きした学習会を開催します。\n産直産地や地域と連携して調達されたFIT電気（再生可能エネルギー）中心の\n「パルシステムでんき」についてお話を聞きにきませんか。\n当日の内容\n・再生可能エネルギーの仕組み\n・パルシステムでんきの発電産地や発電方法\n・パルシステムでんきと産直産地とのつながり、他\n質問・交流時間では、\n爽やかな風味の和紅茶と、さかなっつハイ！、北海道産小豆のひとくち塩ようかん、\n東ハト・ミニキャラメルコーン（Ca入り）をご用意しています。 \n \n  \n  \n  \n  \nお子さま連れでもお気軽にご参加ください♪\nお申込みをお待ちしています \n開催日時：10月25日（土）10：00～11：30　受付9：50～\n会場：新潟テルサ　３階　研修室2\n　　　所在地　新潟市中央区鐘木185-18\n参加費：当日徴収します。（3歳以下無料）\nパルシステム新潟ときめき組合員（同居ご家族含む）\n1人100円（税込）\nパルシステム新潟ときめきの組合員ではない方\n1人150円（税込）\n持ち物：マイカップ、筆記用具\n定員：25人\n行事保険：あり\n締切り：10月11日（土）14：00 \n＊申込みが定員を超えた場合は抽選となります。\n＊当落通知は、お申し込みいただいたメールアドレスに10月15日（水）にご連絡します。\n＊お申込み後、自動返信メールが届かない場合や、当落通知のメールがなかった場合は\nパルシステム問合せセンターに（10/25開催のイベントについて新潟センターから連絡が欲しい）とお伝えください。折り返しご連絡いたします。\n0120-868-014（月～金曜日/9：00～20：00　　土曜日/9：00～17：00）\n＊「おためし宅配」利用中の方は、組合員登録前ですので組合員ではない方の参加費となります。\n＊お預かりした個人情報は組合員活動の目的以外には使用しません。 \n申し込みはこちらから \n  \n  \n  \n  \n
URL:https://www.niigata-tokimeki.jp/events2/20250924/6574
LOCATION:新潟テルサ\, 新潟市中央区鐘木185-18
END:VEVENT
END:VCALENDAR