BEGIN:VCALENDAR
VERSION:2.0
PRODID:-//パルシステム新潟ときめき - ECPv4.8.1//NONSGML v1.0//EN
CALSCALE:GREGORIAN
METHOD:PUBLISH
X-WR-CALNAME:パルシステム新潟ときめき
X-ORIGINAL-URL:https://www.niigata-tokimeki.jp
X-WR-CALDESC:Events for パルシステム新潟ときめき
BEGIN:VEVENT
DTSTART;TZID=Asia/Tokyo:20250607T100000
DTEND;TZID=Asia/Tokyo:20250607T113000
DTSTAMP:20260424T004754
CREATED:20250512T000008Z
LAST-MODIFIED:20250530T014012Z
UID:6302-1749290400-1749295800@www.niigata-tokimeki.jp
SUMMARY:素敵な梅しごと体験「梅シロップ」作り☆受付終了
DESCRIPTION:酸味豊かな梅と花見糖で甘酸っぱい梅シロップを一緒に作ってみませんか？\n完成した梅シロップは、冷水やソーダを注げば暑い季節にぴったりの清涼飲料に変身！お家で簡単に楽しめます。\n梅のりんご酢漬けの試飲もします。\nこの機会に≪梅しごと≫体験してみましょう。\nお申込みをお待ちしています。\n開催日時：6月7日（土）\n開催時間：10：00～11：30\n会場：黒埼市民会館　3階調理室\n＊所在地新潟市西区鳥原909-1\n参加対象と参加費＊当日徴収します\nパルシステム新潟ときめき組合員（同居のご家族含む）　1組400円（税込）\n＊梅シロップ作りは１組１セット限定です。\n＊参加費は材料代金も含みます。（梅は300ｇです）\n持ち物等\n保存ビン（容量1ℓ～2ℓ）密封でき熱に強いガラスびんなど\nエプロン、三角巾、マイスプーン、筆記用具、水分補給の飲み物\n定員：20組\n行事保険：有り\n締切り：5月24日（土）14：00\n＊申込みが定員を超えた場合は抽選となります。\n＊当落通知は、お申し込みいただいたメールアドレスに5月28日（水）にご連絡します。\n申込み後、自動返信メールが届かない場合や、当落通知のメールがなかった場合は\nパルシステム問合せセンターに連絡をお願いします。\n0120-868-014（月～金曜日/9：00～20：00　　土曜日/9：00～17：00）\n＊「おためし宅配」利用中の方は、組合員登録後にお申し込みいただけます。\n＊お預かりした個人情報は組合員活動の目的以外には使用しません。 \nお申し込みはこちらから \n
URL:https://www.niigata-tokimeki.jp/events2/20250512/6302
LOCATION:黒埼市民会館\, 新潟市西区鳥原909-1\, Japan
ATTACH;FMTTYPE=image/png:https://www.niigata-tokimeki.jp/wp-content/uploads/2025/05/-e1745484035663.png
END:VEVENT
END:VCALENDAR