BEGIN:VCALENDAR
VERSION:2.0
PRODID:-//パルシステム新潟ときめき - ECPv4.8.1//NONSGML v1.0//EN
CALSCALE:GREGORIAN
METHOD:PUBLISH
X-WR-CALNAME:パルシステム新潟ときめき
X-ORIGINAL-URL:https://www.niigata-tokimeki.jp
X-WR-CALDESC:Events for パルシステム新潟ときめき
BEGIN:VEVENT
DTSTART;TZID=Asia/Tokyo:20250606T100000
DTEND;TZID=Asia/Tokyo:20250606T121500
DTSTAMP:20260424T004752
CREATED:20250501T030025Z
LAST-MODIFIED:20250519T054408Z
UID:6356-1749204000-1749212100@www.niigata-tokimeki.jp
SUMMARY:作るみんなにやさしい『お料理セット』学習＆調理ランチ会 ☆受付終了
DESCRIPTION:国産の肉と野菜を使用したお料理セットで毎日の食事をもっと楽しく簡単に！ \n『お料理セット』は、時短調理で忙しい方にも優しく、シンプルレシピだから誰でもおいしく作れます。\nみんなで作って、みんなで食べて『お料理セット』のやさしさを学び味わいにきてください。\nお申込みをお待ちしています。 \n開催日時：6月6日（金）\n開催時間：10：00～12：15\n会場：東区プラザ　2階和室1.2、調理室\n＊所在地/新潟市東区下木戸1丁目4番1号\n参加対象と参加費＊当日徴収します\n組合員（同居のご家族含む）　大人（中学生以上）1人300円（税込）、子ども1人100円（税込）\n組合員ではない方　　大人（中学生以上）1人450円（税込）、子ども1人150円（税込）　\n持ち物等\nエプロン、三角巾、マイはし、マイスプーン、筆記用具、水分補給の飲み物\n定員：25人\n行事保険：有り\n締切り：5月17日（土）14：00\n＊申込みが定員を超えた場合は抽選となります。\n＊当落通知は、お申し込みいただいたメールアドレスに5月21日（水）にご連絡します。\n申込み後、自動返信メールが届かない場合や、当落通知のメールがなかった場合は\nパルシステム問合せセンターに連絡をお願いします。\n0120-868-014（月～金曜日/9：00～20：00　　土曜日/9：00～17：00）\n＊「おためし宅配」利用中の方は、組合員登録前ですので組合員ではない方の参加費となります。\n＊お預かりした個人情報は組合員活動の目的以外には使用しません。 \nお申し込みはこちらから \n  \n
URL:https://www.niigata-tokimeki.jp/events2/20250501/6356
ATTACH;FMTTYPE=image/png:https://www.niigata-tokimeki.jp/wp-content/uploads/2025/05/キャプチャ.png
END:VEVENT
END:VCALENDAR