BEGIN:VCALENDAR
VERSION:2.0
PRODID:-//パルシステム新潟ときめき - ECPv4.8.1//NONSGML v1.0//EN
CALSCALE:GREGORIAN
METHOD:PUBLISH
X-WR-CALNAME:パルシステム新潟ときめき
X-ORIGINAL-URL:https://www.niigata-tokimeki.jp
X-WR-CALDESC:Events for パルシステム新潟ときめき
BEGIN:VEVENT
DTSTART;TZID=Asia/Tokyo:20241023T103000
DTEND;TZID=Asia/Tokyo:20241023T123000
DTSTAMP:20260424T153122
CREATED:20240921T080000Z
LAST-MODIFIED:20241226T012441Z
UID:5997-1729679400-1729686600@www.niigata-tokimeki.jp
SUMMARY:新米ごはんとお刺身でランチしましょう！☆受付終了
DESCRIPTION:焼き魚に煮魚などお魚の調理方法はありますが、お魚本来が持つ食感がわかりやすいお刺身で試食会を開催します。\n今回試食するのは、まぐろたたき、ほたて貝柱、かつおたたきや真あじの4種類といくらです。\nまた、日本の水産業を守り応援していくアクション「お魚食べよう」についても紹介します。\nふっくらつやつや新米ごはんも味わって一緒においしい時間を過ごしましょう！\nお申し込みをお待ちしています。 \n  \n開催日時：10月23日（水）10：30～12：30\n受　付：10：15～\n会　場：黒埼市民会館　3階調理室\n所在地：新潟市西区鳥原909-1\n参加対象：小学生以上　パルシステム新潟ときめき組合員（ご家族含む）、組合員ではない方\n参加費：組合員1人　300円(税込)、組合員ではない方　1人　450円（税込）\n定　員　25人\n持ち物　エプロン、三角巾、マイはし、水分補給の飲み物、筆記用具\n行事保険　あり \n  \n＊お申込みが定員を超えた場合は抽選となります。\n＊当落通知は、お申し込みいただいたメールアドレスに10月9日（水）にご連絡いたします。\n＊またパルシステム新潟ときめきの組合員には「当落通知書」を10月8日（火）～10月14日（月）に配送でもお届けします。\n＊「おためし宅配」利用中の方は、組合員登録前ですので組合員ではない方の参加費となります。\n＊当落通知のお届けがなかった場合は\n　kumikatsu-niigata@pal.or.jp\nにお問合せ下さいますようお願いします。 \n  \n  \n \n  \n  \n  \n  \n
URL:https://www.niigata-tokimeki.jp/events2/20240921/5997
LOCATION:黒埼市民会館\, 新潟市西区鳥原909-1\, Japan
ATTACH;FMTTYPE=image/png:https://www.niigata-tokimeki.jp/wp-content/uploads/2024/09/-e1726102553117.png
ORGANIZER;CN="%E3%83%91%E3%83%AB%E3%82%B7%E3%82%B9%E3%83%86%E3%83%A0%E6%96%B0%E6%BD%9F%E3%81%A8%E3%81%8D%E3%82%81%E3%81%8D":MAILTO:kumikatsu-niigata@pal.or.jp
END:VEVENT
END:VCALENDAR