BEGIN:VCALENDAR
VERSION:2.0
PRODID:-//パルシステム新潟ときめき - ECPv4.8.1//NONSGML v1.0//EN
CALSCALE:GREGORIAN
METHOD:PUBLISH
X-WR-CALNAME:パルシステム新潟ときめき
X-ORIGINAL-URL:https://www.niigata-tokimeki.jp
X-WR-CALDESC:Events for パルシステム新潟ときめき
BEGIN:VEVENT
DTSTART;TZID=Asia/Tokyo:20240627T100000
DTEND;TZID=Asia/Tokyo:20240627T123000
DTSTAMP:20260421T084044
CREATED:20240518T080007Z
LAST-MODIFIED:20240613T041016Z
UID:5676-1719482400-1719491400@www.niigata-tokimeki.jp
SUMMARY:【組合員限定】恩納もずくを味わって産地を知ろう！☆受付終了
DESCRIPTION: \n  \n  \n  \n  \n  \n  \n  \n開催日時　6月27日（木）10：00～12：30\n会　　場　黒埼市民会館　調理室\n　　　　　所在地　新潟市西区鳥原909-1\n参加対象　パルシステム新潟ときめきの組合員と小学生以上のご家族\n参加費　　1人300円（税込）当日徴収します。\n定　　員　20人\n持ち物　　マイはし、エプロン、水分補給の飲み物、筆記用具\n行事保険　有り\n申込締切　6月1日（土）14：00 \n＊申込みが定員を超えた場合は抽選となります。\n＊すべての方へ「当落通知書」を6月4（火）～6月10日（月）に配送でお届けします。当選・選外のお知らせとなりますので必ずご確認ください。\n＊「おためし宅配」利用中の方は、組合員登録後にお申込みいただけます。\n＊当落通知のお届けがなかった場合はパルシステム問合せセンターに連絡をお願いします。\n（タベソダ利用、商品のお届けがない方には届かない場合がございます） \n  \n申込みはこちらから \n
URL:https://www.niigata-tokimeki.jp/events2/20240518/5676
LOCATION:黒埼市民会館\, 新潟市西区鳥原909-1\, Japan
ATTACH;FMTTYPE=image/jpeg:https://www.niigata-tokimeki.jp/wp-content/uploads/2024/05/yoキャプチャ.jpg
ORGANIZER;CN="%E3%83%91%E3%83%AB%E3%82%B7%E3%82%B9%E3%83%86%E3%83%A0%E6%96%B0%E6%BD%9F%E3%81%A8%E3%81%8D%E3%82%81%E3%81%8D":MAILTO:kumikatsu-niigata@pal.or.jp
END:VEVENT
END:VCALENDAR