BEGIN:VCALENDAR
VERSION:2.0
PRODID:-//パルシステム新潟ときめき - ECPv4.8.1//NONSGML v1.0//EN
CALSCALE:GREGORIAN
METHOD:PUBLISH
X-WR-CALNAME:パルシステム新潟ときめき
X-ORIGINAL-URL:https://www.niigata-tokimeki.jp
X-WR-CALDESC:Events for パルシステム新潟ときめき
BEGIN:VEVENT
DTSTART;TZID=Asia/Tokyo:20211014T101500
DTEND;TZID=Asia/Tokyo:20211014T110000
DTSTAMP:20260422T111754
CREATED:20210913T000051Z
LAST-MODIFIED:20210929T013001Z
UID:3675-1634206500-1634209200@www.niigata-tokimeki.jp
SUMMARY:オンラインでつながろう！パルときおしゃべり会～'映える’写真の撮り方にはコツがあります～☆受付終了
DESCRIPTION:名前の変更、チャットのやり取りや画面切り替えなどzoomの基本操作を確認しながら、オンラインでつながっておしゃべりを楽しんでみませんか？\n基本操作の他に、今回はちょっとした工夫で’映える’写真になる取り方のコツを紹介します。\nまた、参加者には「までっこ鶏ミニから揚げ」を終了後配送でお届けします。コツを生かして写真を撮ってみてください。目で楽しみおいしさを実感！ぜひこの機会にお試しください。\nお申込みをお待ちしています！ \n【日時】10月14日（木）10：15～11：00\n【参加費】100円\n【募集人数】8組　超えた場合は抽選となります。当落通知書は9月28日（火）～随時配送でお届けします。\n【参加場所】ご自宅\n【締切り】9月24日（金）18：00\n＊この企画は自宅で行うため行事保険の対象外となります。 \n【試食商品について】試食商品は開催後の10月18日（月）～10月22日（金）に配送と一緒にお届けします。\n【参加費とキャンセルについて】\n参加費100円は10月3回の商品ご利用代金で徴収します。お届け情報には「参加費」と記載します。当選後のキャンセル、当日欠席の場合でも、商品はお届けいたします。また参加費も徴収します。 \nzoomアプリのインストールの方法、つなぎ方がわからなくて興味があるけどためらっている方、、、大丈夫です！開催日までに参加できるよう電話での相談をお受けいたします。この機会に是非お試しください！\nzoomアプリをインストールしてパルときおしゃべり会に参加するには】パソコン、スマートフォンやタブレット等の端末とインターネットに接続できる環境が必要です。有線もしくはWi-Fi環境での接続をおすすめします。 \n \n
URL:https://www.niigata-tokimeki.jp/events2/20210913/3675
LOCATION:参加者自宅
ATTACH;FMTTYPE=image/png:https://www.niigata-tokimeki.jp/wp-content/uploads/2021/09/映える.png
ORGANIZER;CN="%E3%83%91%E3%83%AB%E3%82%B7%E3%82%B9%E3%83%86%E3%83%A0%E6%96%B0%E6%BD%9F%E3%81%A8%E3%81%8D%E3%82%81%E3%81%8D":MAILTO:kumikatsu-niigata@pal.or.jp
END:VEVENT
END:VCALENDAR