BEGIN:VCALENDAR
VERSION:2.0
PRODID:-//パルシステム新潟ときめき - ECPv4.8.1//NONSGML v1.0//EN
CALSCALE:GREGORIAN
METHOD:PUBLISH
X-WR-CALNAME:パルシステム新潟ときめき
X-ORIGINAL-URL:https://www.niigata-tokimeki.jp
X-WR-CALDESC:Events for パルシステム新潟ときめき
BEGIN:VEVENT
DTSTART;TZID=Asia/Tokyo:20211206T080000
DTEND;TZID=Asia/Tokyo:20211206T170000
DTSTAMP:20260423T073042
CREATED:20211102T032602Z
LAST-MODIFIED:20211116T055410Z
UID:3737-1638777600-1638810000@www.niigata-tokimeki.jp
SUMMARY:自宅で学ぼう！試そう！ほんもの実感！商品学習会『こんせん72牛乳』【組合員限定企画】☆受付終了
DESCRIPTION:自宅で行う「ほんもの実感！商品学習会」を開催します。\n学習していただく商品は『こんせん72牛乳』です。\nしぼりたての生乳に近い、さらっとしたのみ口が特徴の『こんせん72牛乳』は、北海道根室地区の生乳を生産地区内の工場で殺菌し新鮮なうちにパックしています。\nこの機会に『こんせん72牛乳』について学び試してみませんか？\nお申込みをお待ちしています。 \n【学習期間】12月6日（月）～12月17日（金）\n【参加費】100円\n【募集人数】15人　定員を超えた場合は抽選となります。\n【活動場所】ご自宅\n【締切り】11月12日（金）\n＊この企画は自宅で行うため行事保険の対象外となります。 \n【自宅で学ぼう！試そう！学習会内容】\n①　申し込みをします。\n②　当落通知文書を11月16日（火）～11月22日（月）の間に配送でお届けします。\n③　当選の方に試食商品と学習会資料をお届けします。\nお届け週：12月6日（月）～12月10日（金）\n商品お届け方法：試食商品は配送商品と一緒にお届けします。\n（試食商品の注文をする必要はございません）\n商品紹介資料：カタログと一緒に封筒に入れてお届けします。\n④　届いた資料とパルシステムのYouTube動画をご覧になり自宅で学び商品を試食してください。\n視聴いただきたい動画は資料の中で紹介します。\n⑤　資料やYouTube動画視聴、試食した感想や意見などをアンケートに記入いただき、12月24日（金）までに配送でお返しください。\n⑥　学習会終了です。 \n【試食商品代金と参加費について】\n参加費100円は12月3回に徴収します。お届け情報には「参加費」と記載します。\n試食商品代金はお届け時(12月2回)にはご利用代金に含まれますが、翌週（12月3回）に0円と訂正します。 \n \n
URL:https://www.niigata-tokimeki.jp/events2/20211102/3737
LOCATION:参加者自宅
ORGANIZER;CN="%E3%83%91%E3%83%AB%E3%82%B7%E3%82%B9%E3%83%86%E3%83%A0%E6%96%B0%E6%BD%9F%E3%81%A8%E3%81%8D%E3%82%81%E3%81%8D":MAILTO:kumikatsu-niigata@pal.or.jp
END:VEVENT
END:VCALENDAR